Package: Clomial Version: 1.36.0 Command: /home/biocbuild/bbs-3.17-bioc/R/bin/R CMD build --keep-empty-dirs --no-resave-data Clomial StartedAt: 2023-10-15 16:20:17 -0400 (Sun, 15 Oct 2023) EndedAt: 2023-10-15 16:20:31 -0400 (Sun, 15 Oct 2023) EllapsedTime: 14.3 seconds RetCode: 0 Status: OK PackageFile: Clomial_1.36.0.tar.gz PackageFileSize: 1.352 MiB