Package: Clomial Version: 1.36.0 Command: /Library/Frameworks/R.framework/Resources/bin/R CMD check --install=check:Clomial.install-out.txt --library=/Library/Frameworks/R.framework/Resources/library --no-vignettes --timings Clomial_1.36.0.tar.gz StartedAt: 2023-10-15 23:52:45 -0400 (Sun, 15 Oct 2023) EndedAt: 2023-10-15 23:59:16 -0400 (Sun, 15 Oct 2023) EllapsedTime: 390.3 seconds RetCode: 0 Status: OK CheckDir: Clomial.Rcheck Warnings: 0