Package: Clomial Version: 1.36.0 Command: /Library/Frameworks/R.framework/Resources/bin/R CMD build --keep-empty-dirs --no-resave-data Clomial StartedAt: 2023-10-15 17:27:38 -0400 (Sun, 15 Oct 2023) EndedAt: 2023-10-15 17:28:37 -0400 (Sun, 15 Oct 2023) EllapsedTime: 58.5 seconds RetCode: 0 Status: OK PackageFile: Clomial_1.36.0.tar.gz PackageFileSize: 1.461 MiB