Package: Clomial Version: 1.36.0 Command: rm -rf Clomial.buildbin-libdir && mkdir Clomial.buildbin-libdir && /Users/biocbuild/BBS/utils/build-universal.sh Clomial_1.36.0.tar.gz /Library/Frameworks/R.framework/Resources/bin/R Clomial.buildbin-libdir StartedAt: 2023-10-16 09:09:38 -0400 (Mon, 16 Oct 2023) EndedAt: 2023-10-16 09:09:48 -0400 (Mon, 16 Oct 2023) EllapsedTime: 9.3 seconds RetCode: 0 Status: OK PackageFile: Clomial_1.36.0.tgz PackageFileSize: 1.524 MiB