Package: ClassifyR Version: 3.4.11 Command: /home/biocbuild/bbs-3.17-bioc/R/bin/R CMD build --keep-empty-dirs --no-resave-data ClassifyR StartedAt: 2023-10-15 16:19:24 -0400 (Sun, 15 Oct 2023) EndedAt: 2023-10-15 16:28:34 -0400 (Sun, 15 Oct 2023) EllapsedTime: 550.7 seconds RetCode: 0 Status: OK PackageFile: ClassifyR_3.4.11.tar.gz PackageFileSize: 2.24 MiB