Package: CiteFuse Version: 1.12.0 Command: rm -rf CiteFuse.buildbin-libdir && mkdir CiteFuse.buildbin-libdir && F:\biocbuild\bbs-3.17-bioc\R\bin\R.exe CMD INSTALL --build --library=CiteFuse.buildbin-libdir CiteFuse_1.12.0.tar.gz StartedAt: 2023-10-16 08:35:17 -0400 (Mon, 16 Oct 2023) EndedAt: 2023-10-16 08:36:23 -0400 (Mon, 16 Oct 2023) EllapsedTime: 65.5 seconds RetCode: 0 Status: OK PackageFile: CiteFuse_1.12.0.zip PackageFileSize: 2.918 MiB