Package: CiteFuse Version: 1.12.0 Command: rm -rf CiteFuse.buildbin-libdir && mkdir CiteFuse.buildbin-libdir && /Users/biocbuild/BBS/utils/build-universal.sh CiteFuse_1.12.0.tar.gz /Library/Frameworks/R.framework/Resources/bin/R CiteFuse.buildbin-libdir StartedAt: 2023-10-16 09:09:08 -0400 (Mon, 16 Oct 2023) EndedAt: 2023-10-16 09:12:04 -0400 (Mon, 16 Oct 2023) EllapsedTime: 175.2 seconds RetCode: 0 Status: OK PackageFile: CiteFuse_1.12.0.tgz PackageFileSize: 3.459 MiB