Package: CircSeqAlignTk Version: 1.2.0 Command: /Library/Frameworks/R.framework/Resources/bin/R CMD check --install=check:CircSeqAlignTk.install-out.txt --library=/Library/Frameworks/R.framework/Resources/library --no-vignettes --timings CircSeqAlignTk_1.2.0.tar.gz StartedAt: 2023-10-15 23:50:36 -0400 (Sun, 15 Oct 2023) EndedAt: 2023-10-16 00:03:58 -0400 (Mon, 16 Oct 2023) EllapsedTime: 801.9 seconds RetCode: 0 Status: OK CheckDir: CircSeqAlignTk.Rcheck Warnings: 0