Package: ChromSCape Version: 1.10.0 Command: F:\biocbuild\bbs-3.17-bioc\R\bin\R.exe CMD INSTALL ChromSCape StartedAt: 2023-10-15 17:01:04 -0400 (Sun, 15 Oct 2023) EndedAt: 2023-10-15 17:02:19 -0400 (Sun, 15 Oct 2023) EllapsedTime: 74.4 seconds RetCode: 0 Status: OK