Package: ChromSCape Version: 1.10.0 Command: F:\biocbuild\bbs-3.17-bioc\R\bin\R.exe CMD check --no-multiarch --install=check:ChromSCape.install-out.txt --library=F:\biocbuild\bbs-3.17-bioc\R\library --no-vignettes --timings ChromSCape_1.10.0.tar.gz StartedAt: 2023-10-16 00:33:59 -0400 (Mon, 16 Oct 2023) EndedAt: 2023-10-16 00:48:46 -0400 (Mon, 16 Oct 2023) EllapsedTime: 887.3 seconds RetCode: 0 Status: WARNINGS CheckDir: ChromSCape.Rcheck Warnings: 4