Package: ChromSCape Version: 1.10.0 Command: /Library/Frameworks/R.framework/Resources/bin/R CMD check --install=check:ChromSCape.install-out.txt --library=/Library/Frameworks/R.framework/Resources/library --no-vignettes --timings ChromSCape_1.10.0.tar.gz StartedAt: 2023-10-15 23:47:06 -0400 (Sun, 15 Oct 2023) EndedAt: 2023-10-16 00:18:40 -0400 (Mon, 16 Oct 2023) EllapsedTime: 1893.3 seconds RetCode: 0 Status: WARNINGS CheckDir: ChromSCape.Rcheck Warnings: 4