Package: ChromSCape Version: 1.10.0 Command: /Library/Frameworks/R.framework/Resources/bin/R CMD build --keep-empty-dirs --no-resave-data ChromSCape StartedAt: 2023-10-15 17:24:48 -0400 (Sun, 15 Oct 2023) EndedAt: 2023-10-15 17:27:38 -0400 (Sun, 15 Oct 2023) EllapsedTime: 170.7 seconds RetCode: 0 Status: OK PackageFile: ChromSCape_1.10.0.tar.gz PackageFileSize: 5.303 MiB