Package: ChromSCape Version: 1.10.0 Command: rm -rf ChromSCape.buildbin-libdir && mkdir ChromSCape.buildbin-libdir && /Users/biocbuild/BBS/utils/build-universal.sh ChromSCape_1.10.0.tar.gz /Library/Frameworks/R.framework/Resources/bin/R ChromSCape.buildbin-libdir StartedAt: 2023-10-16 09:08:13 -0400 (Mon, 16 Oct 2023) EndedAt: 2023-10-16 09:11:22 -0400 (Mon, 16 Oct 2023) EllapsedTime: 189.1 seconds RetCode: 0 Status: OK PackageFile: ChromSCape_1.10.0.tgz PackageFileSize: 5.789 MiB