Package: ChromHeatMap Version: 1.54.0 Command: F:\biocbuild\bbs-3.17-bioc\R\bin\R.exe CMD INSTALL ChromHeatMap StartedAt: 2023-10-15 16:11:01 -0400 (Sun, 15 Oct 2023) EndedAt: 2023-10-15 16:11:41 -0400 (Sun, 15 Oct 2023) EllapsedTime: 39.4 seconds RetCode: 0 Status: OK