Package: ChromHeatMap Version: 1.54.0 Command: chmod a+r ChromHeatMap -R && F:\biocbuild\bbs-3.17-bioc\R\bin\R.exe CMD build --keep-empty-dirs --no-resave-data ChromHeatMap StartedAt: 2023-10-15 18:06:34 -0400 (Sun, 15 Oct 2023) EndedAt: 2023-10-15 18:07:26 -0400 (Sun, 15 Oct 2023) EllapsedTime: 52.2 seconds RetCode: 0 Status: OK PackageFile: ChromHeatMap_1.54.0.tar.gz PackageFileSize: 217.6 KiB