Package: ChromHeatMap Version: 1.54.0 Command: /home/biocbuild/bbs-3.17-bioc/R/bin/R CMD INSTALL ChromHeatMap StartedAt: 2023-10-15 15:19:31 -0400 (Sun, 15 Oct 2023) EndedAt: 2023-10-15 15:20:05 -0400 (Sun, 15 Oct 2023) EllapsedTime: 34.0 seconds RetCode: 0 Status: OK