Package: ChromHeatMap Version: 1.54.0 Command: /home/biocbuild/bbs-3.17-bioc/R/bin/R CMD check --install=check:ChromHeatMap.install-out.txt --library=/home/biocbuild/bbs-3.17-bioc/R/site-library --timings ChromHeatMap_1.54.0.tar.gz StartedAt: 2023-10-15 20:03:43 -0400 (Sun, 15 Oct 2023) EndedAt: 2023-10-15 20:08:06 -0400 (Sun, 15 Oct 2023) EllapsedTime: 263.0 seconds RetCode: 0 Status: OK CheckDir: ChromHeatMap.Rcheck Warnings: 0