Package: ChromHeatMap Version: 1.54.0 Command: /home/biocbuild/bbs-3.17-bioc/R/bin/R CMD build --keep-empty-dirs --no-resave-data ChromHeatMap StartedAt: 2023-10-15 16:18:14 -0400 (Sun, 15 Oct 2023) EndedAt: 2023-10-15 16:19:05 -0400 (Sun, 15 Oct 2023) EllapsedTime: 51.1 seconds RetCode: 0 Status: OK PackageFile: ChromHeatMap_1.54.0.tar.gz PackageFileSize: 215.8 KiB