Package: ChromHeatMap Version: 1.54.0 Command: /Library/Frameworks/R.framework/Resources/bin/R CMD check --install=check:ChromHeatMap.install-out.txt --library=/Library/Frameworks/R.framework/Resources/library --no-vignettes --timings ChromHeatMap_1.54.0.tar.gz StartedAt: 2023-10-15 23:46:08 -0400 (Sun, 15 Oct 2023) EndedAt: 2023-10-15 23:55:13 -0400 (Sun, 15 Oct 2023) EllapsedTime: 544.3 seconds RetCode: 0 Status: OK CheckDir: ChromHeatMap.Rcheck Warnings: 0