Package: ChromHeatMap Version: 1.54.0 Command: /Library/Frameworks/R.framework/Resources/bin/R CMD build --keep-empty-dirs --no-resave-data ChromHeatMap StartedAt: 2023-10-15 17:24:32 -0400 (Sun, 15 Oct 2023) EndedAt: 2023-10-15 17:26:31 -0400 (Sun, 15 Oct 2023) EllapsedTime: 119.0 seconds RetCode: 0 Status: OK PackageFile: ChromHeatMap_1.54.0.tar.gz PackageFileSize: 318.1 KiB