Package: ChromHeatMap Version: 1.54.0 Command: rm -rf ChromHeatMap.buildbin-libdir && mkdir ChromHeatMap.buildbin-libdir && /Users/biocbuild/BBS/utils/build-universal.sh ChromHeatMap_1.54.0.tar.gz /Library/Frameworks/R.framework/Resources/bin/R ChromHeatMap.buildbin-libdir StartedAt: 2023-10-16 09:08:10 -0400 (Mon, 16 Oct 2023) EndedAt: 2023-10-16 09:10:17 -0400 (Mon, 16 Oct 2023) EllapsedTime: 127.0 seconds RetCode: 0 Status: OK PackageFile: ChromHeatMap_1.54.0.tgz PackageFileSize: 679 KiB