Package: Chicago Version: 1.28.0 Command: rm -rf Chicago.buildbin-libdir && mkdir Chicago.buildbin-libdir && F:\biocbuild\bbs-3.17-bioc\R\bin\R.exe CMD INSTALL --build --library=Chicago.buildbin-libdir Chicago_1.28.0.tar.gz StartedAt: 2023-10-16 08:33:57 -0400 (Mon, 16 Oct 2023) EndedAt: 2023-10-16 08:34:11 -0400 (Mon, 16 Oct 2023) EllapsedTime: 14.9 seconds RetCode: 0 Status: OK PackageFile: Chicago_1.28.0.zip PackageFileSize: 1.017 MiB