Package: Chicago Version: 1.28.0 Command: rm -rf Chicago.buildbin-libdir && mkdir Chicago.buildbin-libdir && /Users/biocbuild/BBS/utils/build-universal.sh Chicago_1.28.0.tar.gz /Library/Frameworks/R.framework/Resources/bin/R Chicago.buildbin-libdir StartedAt: 2023-10-16 09:07:32 -0400 (Mon, 16 Oct 2023) EndedAt: 2023-10-16 09:07:57 -0400 (Mon, 16 Oct 2023) EllapsedTime: 25.1 seconds RetCode: 0 Status: OK PackageFile: Chicago_1.28.0.tgz PackageFileSize: 1.405 MiB