Package: ChemmineOB Version: 1.38.0 Command: rm -rf ChemmineOB.buildbin-libdir && mkdir ChemmineOB.buildbin-libdir && F:\biocbuild\bbs-3.17-bioc\R\bin\R.exe CMD INSTALL --build --library=ChemmineOB.buildbin-libdir ChemmineOB_1.38.0.tar.gz StartedAt: 2023-10-16 08:33:54 -0400 (Mon, 16 Oct 2023) EndedAt: 2023-10-16 08:36:54 -0400 (Mon, 16 Oct 2023) EllapsedTime: 180.8 seconds RetCode: 0 Status: OK PackageFile: ChemmineOB_1.38.0.zip PackageFileSize: 7.185 MiB