Package: ChemmineOB Version: 1.38.0 Command: /home/biocbuild/bbs-3.17-bioc/R/bin/R CMD build --keep-empty-dirs --no-resave-data ChemmineOB StartedAt: 2023-10-15 16:16:25 -0400 (Sun, 15 Oct 2023) EndedAt: 2023-10-15 16:18:20 -0400 (Sun, 15 Oct 2023) EllapsedTime: 114.8 seconds RetCode: 0 Status: OK PackageFile: ChemmineOB_1.38.0.tar.gz PackageFileSize: 1.302 MiB