Package: ChemmineOB Version: 1.38.0 Command: /Library/Frameworks/R.framework/Resources/bin/R CMD check --install=check:ChemmineOB.install-out.txt --library=/Library/Frameworks/R.framework/Resources/library --no-vignettes --timings ChemmineOB_1.38.0.tar.gz StartedAt: 2023-10-15 23:40:42 -0400 (Sun, 15 Oct 2023) EndedAt: 2023-10-15 23:45:25 -0400 (Sun, 15 Oct 2023) EllapsedTime: 283.2 seconds RetCode: 0 Status: WARNINGS CheckDir: ChemmineOB.Rcheck Warnings: 2