Package: ChemmineOB Version: 1.38.0 Command: rm -rf ChemmineOB.buildbin-libdir && mkdir ChemmineOB.buildbin-libdir && /Users/biocbuild/BBS/utils/build-universal.sh ChemmineOB_1.38.0.tar.gz /Library/Frameworks/R.framework/Resources/bin/R ChemmineOB.buildbin-libdir StartedAt: 2023-10-16 09:07:27 -0400 (Mon, 16 Oct 2023) EndedAt: 2023-10-16 09:13:42 -0400 (Mon, 16 Oct 2023) EllapsedTime: 374.6 seconds RetCode: 0 Status: OK PackageFile: ChemmineOB_1.38.0.tgz PackageFileSize: 5.206 MiB