Package: ChIPseeker Version: 1.36.0 Command: rm -rf ChIPseeker.buildbin-libdir && mkdir ChIPseeker.buildbin-libdir && /Users/biocbuild/BBS/utils/build-universal.sh ChIPseeker_1.36.0.tar.gz /Library/Frameworks/R.framework/Resources/bin/R ChIPseeker.buildbin-libdir StartedAt: 2023-10-16 09:07:50 -0400 (Mon, 16 Oct 2023) EndedAt: 2023-10-16 09:10:46 -0400 (Mon, 16 Oct 2023) EllapsedTime: 176.0 seconds RetCode: 0 Status: OK PackageFile: ChIPseeker_1.36.0.tgz PackageFileSize: 6.962 MiB