Package: ChIPpeakAnno Version: 3.34.1 Command: F:\biocbuild\bbs-3.17-bioc\R\bin\R.exe CMD INSTALL ChIPpeakAnno StartedAt: 2023-10-15 16:43:21 -0400 (Sun, 15 Oct 2023) EndedAt: 2023-10-15 16:45:26 -0400 (Sun, 15 Oct 2023) EllapsedTime: 124.5 seconds RetCode: 0 Status: OK