Package: ChIPpeakAnno Version: 3.34.1 Command: F:\biocbuild\bbs-3.17-bioc\R\bin\R.exe CMD check --no-multiarch --install=check:ChIPpeakAnno.install-out.txt --library=F:\biocbuild\bbs-3.17-bioc\R\library --no-vignettes --timings ChIPpeakAnno_3.34.1.tar.gz StartedAt: 2023-10-16 00:31:44 -0400 (Mon, 16 Oct 2023) EndedAt: 2023-10-16 00:42:38 -0400 (Mon, 16 Oct 2023) EllapsedTime: 654.4 seconds RetCode: 0 Status: OK CheckDir: ChIPpeakAnno.Rcheck Warnings: 0