Package: ChIPpeakAnno Version: 3.34.1 Command: rm -rf ChIPpeakAnno.buildbin-libdir && mkdir ChIPpeakAnno.buildbin-libdir && F:\biocbuild\bbs-3.17-bioc\R\bin\R.exe CMD INSTALL --build --library=ChIPpeakAnno.buildbin-libdir ChIPpeakAnno_3.34.1.tar.gz StartedAt: 2023-10-16 08:34:11 -0400 (Mon, 16 Oct 2023) EndedAt: 2023-10-16 08:36:21 -0400 (Mon, 16 Oct 2023) EllapsedTime: 129.6 seconds RetCode: 0 Status: OK PackageFile: ChIPpeakAnno_3.34.1.zip PackageFileSize: 18.49 MiB