Package: ChIPpeakAnno Version: 3.34.1 Command: /home/biocbuild/bbs-3.17-bioc/R/bin/R CMD INSTALL ChIPpeakAnno StartedAt: 2023-10-15 15:37:57 -0400 (Sun, 15 Oct 2023) EndedAt: 2023-10-15 15:39:40 -0400 (Sun, 15 Oct 2023) EllapsedTime: 103.6 seconds RetCode: 0 Status: OK