Package: ChIPpeakAnno Version: 3.34.1 Command: /home/biocbuild/bbs-3.17-bioc/R/bin/R CMD check --install=check:ChIPpeakAnno.install-out.txt --library=/home/biocbuild/bbs-3.17-bioc/R/site-library --timings ChIPpeakAnno_3.34.1.tar.gz StartedAt: 2023-10-15 20:03:13 -0400 (Sun, 15 Oct 2023) EndedAt: 2023-10-15 20:18:54 -0400 (Sun, 15 Oct 2023) EllapsedTime: 940.7 seconds RetCode: 0 Status: OK CheckDir: ChIPpeakAnno.Rcheck Warnings: 0