Package: ChIPexoQual Version: 1.24.0 Command: /Library/Frameworks/R.framework/Resources/bin/R CMD INSTALL ChIPexoQual StartedAt: 2023-10-15 15:49:46 -0400 (Sun, 15 Oct 2023) EndedAt: 2023-10-15 15:52:04 -0400 (Sun, 15 Oct 2023) EllapsedTime: 138.1 seconds RetCode: 0 Status: OK