Package: ChIPexoQual Version: 1.24.0 Command: rm -rf ChIPexoQual.buildbin-libdir && mkdir ChIPexoQual.buildbin-libdir && /Users/biocbuild/BBS/utils/build-universal.sh ChIPexoQual_1.24.0.tar.gz /Library/Frameworks/R.framework/Resources/bin/R ChIPexoQual.buildbin-libdir StartedAt: 2023-10-16 09:07:43 -0400 (Mon, 16 Oct 2023) EndedAt: 2023-10-16 09:10:07 -0400 (Mon, 16 Oct 2023) EllapsedTime: 144.6 seconds RetCode: 0 Status: OK PackageFile: ChIPexoQual_1.24.0.tgz PackageFileSize: 2.333 MiB