Package: ChIPanalyser Version: 1.22.0 Command: rm -rf ChIPanalyser.buildbin-libdir && mkdir ChIPanalyser.buildbin-libdir && F:\biocbuild\bbs-3.17-bioc\R\bin\R.exe CMD INSTALL --build --library=ChIPanalyser.buildbin-libdir ChIPanalyser_1.22.0.tar.gz StartedAt: 2023-10-16 08:34:01 -0400 (Mon, 16 Oct 2023) EndedAt: 2023-10-16 08:34:58 -0400 (Mon, 16 Oct 2023) EllapsedTime: 57.0 seconds RetCode: 0 Status: OK PackageFile: ChIPanalyser_1.22.0.zip PackageFileSize: 1.793 MiB