Package: ChIPanalyser Version: 1.22.0 Command: /home/biocbuild/bbs-3.17-bioc/R/bin/R CMD build --keep-empty-dirs --no-resave-data ChIPanalyser StartedAt: 2023-10-15 16:16:40 -0400 (Sun, 15 Oct 2023) EndedAt: 2023-10-15 16:30:20 -0400 (Sun, 15 Oct 2023) EllapsedTime: 819.3 seconds RetCode: 0 Status: OK PackageFile: ChIPanalyser_1.22.0.tar.gz PackageFileSize: 1.133 MiB