Package: ChIPanalyser Version: 1.22.0 Command: /Library/Frameworks/R.framework/Resources/bin/R CMD INSTALL ChIPanalyser StartedAt: 2023-10-15 15:35:00 -0400 (Sun, 15 Oct 2023) EndedAt: 2023-10-15 15:36:56 -0400 (Sun, 15 Oct 2023) EllapsedTime: 116.2 seconds RetCode: 0 Status: OK