Package: ChIPanalyser Version: 1.22.0 Command: /Library/Frameworks/R.framework/Resources/bin/R CMD check --install=check:ChIPanalyser.install-out.txt --library=/Library/Frameworks/R.framework/Resources/library --no-vignettes --timings ChIPanalyser_1.22.0.tar.gz StartedAt: 2023-10-15 23:41:36 -0400 (Sun, 15 Oct 2023) EndedAt: 2023-10-15 23:55:50 -0400 (Sun, 15 Oct 2023) EllapsedTime: 853.1 seconds RetCode: 0 Status: OK CheckDir: ChIPanalyser.Rcheck Warnings: 0