Package: ChIPXpress Version: 1.44.0 Command: /Library/Frameworks/R.framework/Resources/bin/R CMD INSTALL ChIPXpress StartedAt: 2023-10-15 15:31:51 -0400 (Sun, 15 Oct 2023) EndedAt: 2023-10-15 15:33:12 -0400 (Sun, 15 Oct 2023) EllapsedTime: 81.2 seconds RetCode: 0 Status: OK