Package: ChIC Version: 1.20.0 Command: /home/biocbuild/bbs-3.17-bioc/R/bin/R CMD INSTALL ChIC StartedAt: 2023-10-15 15:52:41 -0400 (Sun, 15 Oct 2023) EndedAt: 2023-10-15 15:52:41 -0400 (Sun, 15 Oct 2023) EllapsedTime: 0.2 seconds RetCode: 1 Status: ERROR