Package: ChIC Version: 1.20.0 Command: /home/biocbuild/bbs-3.17-bioc/R/bin/R CMD build --keep-empty-dirs --no-resave-data ChIC StartedAt: 2023-10-15 16:16:28 -0400 (Sun, 15 Oct 2023) EndedAt: 2023-10-15 16:16:29 -0400 (Sun, 15 Oct 2023) EllapsedTime: 1.3 seconds RetCode: 1 Status: ERROR PackageFile: None PackageFileSize: NA