Package: ChIC Version: 1.20.0 Command: /Library/Frameworks/R.framework/Resources/bin/R CMD INSTALL ChIC StartedAt: 2023-10-15 16:37:51 -0400 (Sun, 15 Oct 2023) EndedAt: 2023-10-15 16:37:52 -0400 (Sun, 15 Oct 2023) EllapsedTime: 0.3 seconds RetCode: 1 Status: ERROR