Package: ChIC Version: 1.20.0 Command: /Library/Frameworks/R.framework/Resources/bin/R CMD build --keep-empty-dirs --no-resave-data ChIC StartedAt: 2023-10-15 17:21:36 -0400 (Sun, 15 Oct 2023) EndedAt: 2023-10-15 17:21:39 -0400 (Sun, 15 Oct 2023) EllapsedTime: 2.2 seconds RetCode: 1 Status: ERROR PackageFile: None PackageFileSize: NA