git_url: https://git.bioconductor.org/packages/ChIC git_branch: RELEASE_3_17 git_last_commit: 601181f git_last_commit_date: 2023-04-25 11:01:05 -0400 (Tue, 25 Apr 2023) Package: ChIC Version: 1.20.0 Maintainer: Carmen Maria Livi MaintainerEmail: carmen.livi at external.ifom.eu