Package: ChAMP Version: 2.30.0 Command: F:\biocbuild\bbs-3.17-bioc\R\bin\R.exe CMD INSTALL ChAMP StartedAt: 2023-10-15 17:06:17 -0400 (Sun, 15 Oct 2023) EndedAt: 2023-10-15 17:07:34 -0400 (Sun, 15 Oct 2023) EllapsedTime: 77.5 seconds RetCode: 0 Status: OK