Package: ChAMP Version: 2.30.0 Command: F:\biocbuild\bbs-3.17-bioc\R\bin\R.exe CMD check --no-multiarch --install=check:ChAMP.install-out.txt --library=F:\biocbuild\bbs-3.17-bioc\R\library --no-vignettes --timings ChAMP_2.30.0.tar.gz StartedAt: 2023-10-16 00:30:10 -0400 (Mon, 16 Oct 2023) EndedAt: 2023-10-16 00:37:34 -0400 (Mon, 16 Oct 2023) EllapsedTime: 443.8 seconds RetCode: 0 Status: WARNINGS CheckDir: ChAMP.Rcheck Warnings: 2