Package: ChAMP Version: 2.30.0 Command: rm -rf ChAMP.buildbin-libdir && mkdir ChAMP.buildbin-libdir && F:\biocbuild\bbs-3.17-bioc\R\bin\R.exe CMD INSTALL --build --library=ChAMP.buildbin-libdir ChAMP_2.30.0.tar.gz StartedAt: 2023-10-16 08:33:52 -0400 (Mon, 16 Oct 2023) EndedAt: 2023-10-16 08:35:20 -0400 (Mon, 16 Oct 2023) EllapsedTime: 88.4 seconds RetCode: 0 Status: OK PackageFile: ChAMP_2.30.0.zip PackageFileSize: 4.137 MiB