Package: ChAMP Version: 2.30.0 Command: /Library/Frameworks/R.framework/Resources/bin/R CMD INSTALL ChAMP StartedAt: 2023-10-15 16:36:38 -0400 (Sun, 15 Oct 2023) EndedAt: 2023-10-15 16:37:50 -0400 (Sun, 15 Oct 2023) EllapsedTime: 72.4 seconds RetCode: 0 Status: OK