Package: CellaRepertorium Version: 1.10.0 Command: rm -rf CellaRepertorium.buildbin-libdir && mkdir CellaRepertorium.buildbin-libdir && F:\biocbuild\bbs-3.17-bioc\R\bin\R.exe CMD INSTALL --build --library=CellaRepertorium.buildbin-libdir CellaRepertorium_1.10.0.tar.gz StartedAt: 2023-10-16 08:32:50 -0400 (Mon, 16 Oct 2023) EndedAt: 2023-10-16 08:33:52 -0400 (Mon, 16 Oct 2023) EllapsedTime: 61.4 seconds RetCode: 0 Status: OK PackageFile: CellaRepertorium_1.10.0.zip PackageFileSize: 4.104 MiB